BEGIN:VCALENDAR
PRODID:-//hacksw/handcal//NONSGML v1.0//EN
VERSION:2.0
METHOD:PUBLISH
BEGIN:VEVENT
DTSTART:20130910T220000Z
DTEND:20130911T010000Z
LOCATION:The Henry Ford 
UID:721820130910T220000ZFEPCMD & Planned Giving Round Table of Southeast Michigan Membership Meeting
DTSTAMP:20260421T082339Z
DESCRIPTION:\n \n \n \n \nCo-Sponsored With The Planned Giving Round Table\n \n \n \nThe Henry Ford \n \n20900 Oakwood Blvd.\n \nDearborn, MI  48124\n \n \n \nLinda A. Wasserman, JD\n \n“Private Foundations” \n \n \n \n \n \n \n \n
SUMMARY:FEPCMD & Planned Giving Round Table of Southeast Michigan Membership Meeting - Financial and Estate Planning Council of Metro Detroit, Inc. 
PRIORITY:3
BEGIN:VALARM
TRIGGER:PT18H
ACTION:DISPLAY
DESCRIPTION:Reminder
END:VALARM
END:VEVENT
END:VCALENDAR