BEGIN:VCALENDAR
PRODID:-//hacksw/handcal//NONSGML v1.0//EN
VERSION:2.0
METHOD:PUBLISH
BEGIN:VEVENT
DTSTART:20100928T213000Z
DTEND:20100929T010000Z
LOCATION:NORTHERN TRUST 
UID:451320100928T213000ZMichigan Trust Code:  Six Month Perspective
DTSTAMP:20260421T082307Z
DESCRIPTION:\n5:30 p.m. Cocktails\n \n6:30 p.m. Presentation\n \n7:30 p.m. Dinner\n \n \n \n \n
SUMMARY:Michigan Trust Code:  Six Month Perspective - Financial and Estate Planning Council of Metro Detroit, Inc. 
PRIORITY:3
BEGIN:VALARM
TRIGGER:PT18H
ACTION:DISPLAY
DESCRIPTION:Reminder
END:VALARM
END:VEVENT
END:VCALENDAR