BEGIN:VCALENDAR
PRODID:-//hacksw/handcal//NONSGML v1.0//EN
VERSION:2.0
METHOD:PUBLISH
BEGIN:VEVENT
DTSTART:20230215T130000Z
DTEND:20230215T220000Z
LOCATION:
UID:2397020230215T130000ZFEPCMD - 2-8-23 event on site payments following the event
DTSTAMP:20260421T083018Z
DESCRIPTION:\nThis event has been scheduled to allow for payment for 2-8-23 breakfast event on site attendees only.  Thank you\n
SUMMARY:FEPCMD - 2-8-23 event on site payments following the event - Financial and Estate Planning Council of Metro Detroit, Inc. 
PRIORITY:3
BEGIN:VALARM
TRIGGER:PT18H
ACTION:DISPLAY
DESCRIPTION:Reminder
END:VALARM
END:VEVENT
END:VCALENDAR