BEGIN:VCALENDAR
PRODID:-//hacksw/handcal//NONSGML v1.0//EN
VERSION:2.0
METHOD:PUBLISH
BEGIN:VEVENT
DTSTART:20230208T130000Z
DTEND:20230208T143000Z
LOCATION:Skyline Club, 2000 Town Center, Top Floor, Southfield, MI 48075
UID:2379920230208T130000ZFEPCMD Breakfast Meeting "Business Succession Planning"
DTSTAMP:20260421T081410Z
DESCRIPTION:\nREGISTRATION IS CLOSED FOR THIS EVENT AS WE HAVE REACHED ROOM CAPACITY.\n \nAgenda:\n \n8:00 am to 8:30 Breakfast Buffet (breakfast buffet will remain open during the presentation so feel free to arrive when you are able)\n \n8:30 am to 9:30 Presentation\n \nKey Presentation Take-Aways:\n \n1) Non-Tax Considerations in Business Succession Planning\n \n2) Succession and Estate Planning Techniques for Closely-Held Businesses, including Installment Sales to Grantor Trusts, Spousal LIfetime Access Trusts, and Holding Companies\n \n3) Using and Reporting Defined Value Gifts\n
SUMMARY:FEPCMD Breakfast Meeting "Business Succession Planning" - Financial and Estate Planning Council of Metro Detroit, Inc. 
PRIORITY:3
BEGIN:VALARM
TRIGGER:PT18H
ACTION:DISPLAY
DESCRIPTION:Reminder
END:VALARM
END:VEVENT
END:VCALENDAR