BEGIN:VCALENDAR
PRODID:-//hacksw/handcal//NONSGML v1.0//EN
VERSION:2.0
METHOD:PUBLISH
BEGIN:VEVENT
DTSTART:20210428T150000Z
DTEND:20210428T160000Z
LOCATION:Zoom Webinar
UID:2080720210428T150000ZFEPCMD Complimentary Webinar "Thoughtful and Experienced Trustees:  Lessons Learned From Guiding Families Through Uncertainty"
DTSTAMP:20260421T093420Z
DESCRIPTION:\n[REGISTER HERE](https://us02web.zoom.us/webinar/register/WN_ycOyYPc3S8eUAggz_r0gIA)\n \nPlease download the meeting flyer for complete information.\n
SUMMARY:FEPCMD Complimentary Webinar "Thoughtful and Experienced Trustees:  Lessons Learned From Guiding Families Through Uncertainty" - Financial and Estate Planning Council of Metro Detroit, Inc. 
PRIORITY:3
BEGIN:VALARM
TRIGGER:PT18H
ACTION:DISPLAY
DESCRIPTION:Reminder
END:VALARM
END:VEVENT
END:VCALENDAR