BEGIN:VCALENDAR
PRODID:-//hacksw/handcal//NONSGML v1.0//EN
VERSION:2.0
METHOD:PUBLISH
BEGIN:VEVENT
DTSTART:20200506T120000Z
DTEND:20200506T140000Z
LOCATION:Birmingham Country Club, 1750 Saxon Drive, Birmingham, MI  48009
UID:1895220200506T120000ZCANCELLED:  FEPCMD Breakfast Meeting - "Living a Life of Significance"
DTSTAMP:20260421T095507Z
DESCRIPTION:\nThis event has been cancelled due to the CDC recommendations for large group gatherings.  Full refunds will be issued to registered attendees.\n \nBusiness colleagues, spouses, and guests are welcome to attend.\n \n8:00 am to 9:00 am / Buffet Breakfast\n \n9:00 am to 10:00 am / Presentation\n  \n“Living a Life of Significance is essential reading for your practice and your soul” Nick Murray\n   \n“There are only a small handful of people in this world who go about their everyday life working to make a difference, and Joe is one of them.A Life of Significance is something we all must choose to do, and Joe supplies the motivation.”Gordon Watson, CEO of AXA Asia\n   \n “His message is particularly compelling for women, given his personal and powerful story about his maternal upbringing.He is a true champion for women in the financial service industry”Angela Ribuffo, CFP, RICP, ChFC, Past President Women in Insurance and Financial Services\n
SUMMARY:CANCELLED:  FEPCMD Breakfast Meeting - "Living a Life of Significance" - Financial and Estate Planning Council of Metro Detroit, Inc. 
PRIORITY:3
BEGIN:VALARM
TRIGGER:PT18H
ACTION:DISPLAY
DESCRIPTION:Reminder
END:VALARM
END:VEVENT
END:VCALENDAR