BEGIN:VCALENDAR
PRODID:-//hacksw/handcal//NONSGML v1.0//EN
VERSION:2.0
METHOD:PUBLISH
BEGIN:VEVENT
DTSTART:20200211T223000Z
DTEND:20200212T003000Z
LOCATION:Skyline Club, 2000 Town Center, Suite 2800, Southfield, MI  48075
UID:1893820200211T223000ZEstate Planning & Trust Management for a Brave New World: It's All in the Family...What's a Family?   
DTSTAMP:20260419T130708Z
DESCRIPTION:\nPLEASE NOTE THAT REGISTRATION IS CLOSED FOR THIS EVENT.\n \n5:30 pm to 6:30 pm / Cocktails\n \n6:30 pm to 7:30 pm / Presentation and  Dinner\n \nFeaturing R. Hugh Magill, Vice Chairman of The Northern Trust Company\n \n"Estate Planning & Trust Management For a Brave New World:  It's All in the Family....What's a Family?"\n \nPresentation Outcomes:\n Generational attributes and family demographics, to include changes in family structures Wealth allocation for contemporary families Issues in the Design of Trusts for Contemporary families; i.e. material purposes and the Clalflin doctrine, statements of intent, trust duration, discretionary distribution standards, and more
SUMMARY:Estate Planning & Trust Management for a Brave New World: It's All in the Family...What's a Family?    - Financial and Estate Planning Council of Metro Detroit, Inc. 
PRIORITY:3
BEGIN:VALARM
TRIGGER:PT18H
ACTION:DISPLAY
DESCRIPTION:Reminder
END:VALARM
END:VEVENT
END:VCALENDAR