BEGIN:VCALENDAR
PRODID:-//hacksw/handcal//NONSGML v1.0//EN
VERSION:2.0
METHOD:PUBLISH
BEGIN:VEVENT
DTSTART:20191008T143000Z
DTEND:20191008T163000Z
LOCATION:Ukrainian Cultural Center, 26601 Ryan Rd, Warren, MI 48091
UID:1797820191008T143000ZLunch and Learn:  FBI Shares Current Fraud Scandals
DTSTAMP:20260421T100344Z
DESCRIPTION:\nREGISTRATION IS CLOSED\n \n \n \n \n
SUMMARY:Lunch and Learn:  FBI Shares Current Fraud Scandals - Financial and Estate Planning Council of Metro Detroit, Inc. 
PRIORITY:3
BEGIN:VALARM
TRIGGER:PT18H
ACTION:DISPLAY
DESCRIPTION:Reminder
END:VALARM
END:VEVENT
END:VCALENDAR