BEGIN:VCALENDAR
PRODID:-//hacksw/handcal//NONSGML v1.0//EN
VERSION:2.0
METHOD:PUBLISH
BEGIN:VEVENT
DTSTART:20180717T220000Z
DTEND:20180718T013000Z
LOCATION:Jefferson Beach Marina, 24400 Jefferson Avenue, St. Clair Shores, MI  48080
UID:1607520180717T220000ZSOCIAL DINNER CRUISE - SPOUSE/GUEST NIGHT
DTSTAMP:20260419T130933Z
DESCRIPTION:\nRegistration is closed for this event.  Thank you.\n
SUMMARY:SOCIAL DINNER CRUISE - SPOUSE/GUEST NIGHT - Financial and Estate Planning Council of Metro Detroit, Inc. 
PRIORITY:3
BEGIN:VALARM
TRIGGER:PT18H
ACTION:DISPLAY
DESCRIPTION:Reminder
END:VALARM
END:VEVENT
END:VCALENDAR