BEGIN:VCALENDAR
PRODID:-//hacksw/handcal//NONSGML v1.0//EN
VERSION:2.0
METHOD:PUBLISH
BEGIN:VEVENT
DTSTART:20180222T153000Z
DTEND:20180222T173000Z
LOCATION:Pasquale's Restaurant, 31555 Woodward Avenue, Royal Oak, MI  48073
UID:1577620180222T153000ZLunch & Learn:  The New Tax Reform Act - The Basics and Beyond
DTSTAMP:20260421T082429Z
DESCRIPTION:\nREGISTRATION IS CLOSED FOR THIS EVENT.  THANK YOU!\n \n$10.00 per attendee - includes optional networking, lunch, and presentation\n \n10:30 am - Registration & Optional Networking\n \n11:20 am - Buffet Dining - pizza, pasta and salad\n \n11:30 am - 12:30 pm - Presentation - Q&A\n \nGARY SCHWARCZ works primarily in the areas of business planning, estate planning and taxation. He has spoken on numerous occasions to professional groups, including CPAs, on tax topics, including the technical aspects of partnership and S corporation taxation.  Examples of legal matters he has handled for clients include the following:\n Federal and state business tax planning and compliance Individual income tax planning Planning, formation, development, operation and tax compliance regarding closely held business entities General representation of business entities Tax planning with respect to partnerships, S corporations, limited liability companies and similar pass through entities Tax analysis and documentation concerning mergers, acquisitions, investments, controlling interest sales, buy-outs, joint ventures, restructuring and recapitalizations Planning and preparation of estate planning documentation Tax analysis, structure and implementation regarding family wealth transfer transactions
SUMMARY:Lunch & Learn:  The New Tax Reform Act - The Basics and Beyond - Financial and Estate Planning Council of Metro Detroit, Inc. 
PRIORITY:3
BEGIN:VALARM
TRIGGER:PT18H
ACTION:DISPLAY
DESCRIPTION:Reminder
END:VALARM
END:VEVENT
END:VCALENDAR