BEGIN:VCALENDAR
PRODID:-//hacksw/handcal//NONSGML v1.0//EN
VERSION:2.0
METHOD:PUBLISH
BEGIN:VEVENT
DTSTART:20150430T153000Z
DTEND:20150430T163000Z
LOCATION:Pasquale's Restaurant - Mediterranean Room
UID:1164520150430T153000ZA Working Lunch on Entering the Real Estate Rental Market
DTSTAMP:20260421T083230Z
DESCRIPTION:\nONLINE REGISTRATION IS CLOSED\n \nPlease contact Jeff Hoenle or Jeff Risius if you wish to attend.\n \n[jeffrey.hoenle@siionline.com](mailto:jhoenle@woodburyfinancial.net)\n \njrisius@srr.com  \n \n \n \n"A Working Lunch on Entering the Real Estate Rental Market"\n \nThursday, April 30, 2015\n \nPasquale's Restaurant - Mediterranean Room\n \n3155 Woodward Avenue, Royal Oak, MI  48073\n \n(Near 12 Mile Road)\n \n11:30 am / Registration\n \n11:45 am to 12:30 pm / Buffet Dining & Presentation\n \n$10.00 Registration Fee\n \nFeaturing a Panel of Speakers\n \nJENNA BERNARDI, CPA\n \nERIC T. CARVER, JD\n \nE. PAUL RATHBUN II\n \nJEFFREY R. HOENLE, CFP\n \n \n
SUMMARY:A Working Lunch on Entering the Real Estate Rental Market - Financial and Estate Planning Council of Metro Detroit, Inc. 
PRIORITY:3
BEGIN:VALARM
TRIGGER:PT18H
ACTION:DISPLAY
DESCRIPTION:Reminder
END:VALARM
END:VEVENT
END:VCALENDAR