BEGIN:VCALENDAR
PRODID:-//hacksw/handcal//NONSGML v1.0//EN
VERSION:2.0
METHOD:PUBLISH
BEGIN:VEVENT
DTSTART:20150909T203000Z
DTEND:20150910T003000Z
LOCATION:Majestic Theatre
UID:1158020150909T203000ZFEPCMD "Spouse's Night" co-sponsored with PGRSM
DTSTAMP:20260421T081805Z
DESCRIPTION:\nREGISTRATION IS CLOSED FOR THIS EVENT\n \nSpouses' Night\n \nWednesday, September 9, 2015\n \nEXPERIENCE DETROIT!\n \nHop On Hop Off Bus Tour of Detroit\n \n"Business Casual"\n \nDinner Presentation Featuring\n \n     Matthew P. Cullen, President & CEO\n \nRock Ventures LLC\n \nThe Majestic Theatre, 4120 Woodward Avenue, Detroit\n \n4:30 pm to 5:15 pm      Check in At Majestic Theatre - appetizers & beverages\n \n5:30 pm to 7:00 pm      Experience Detroit Bus Tour - see additional information\n \n7:00 pm to 7:30 pm      Cocktails and Seating\n \n7:30 pm to 8:30 pm      Presentation and Dinner\n \n \n
SUMMARY:FEPCMD "Spouse's Night" co-sponsored with PGRSM - Financial and Estate Planning Council of Metro Detroit, Inc. 
PRIORITY:3
BEGIN:VALARM
TRIGGER:PT18H
ACTION:DISPLAY
DESCRIPTION:Reminder
END:VALARM
END:VEVENT
END:VCALENDAR